BEGIN:VCALENDAR
VERSION:2.0
PRODID:-//ddaysoftware.com//NONSGML DDay.iCal 1.0//EN
BEGIN:VTIMEZONE
TZID:W. Europe Standard Time
BEGIN:STANDARD
DTSTART:20251002T030000
RRULE:FREQ=YEARLY;BYDAY=-1SU;BYHOUR=3;BYMINUTE=0;BYMONTH=10
TZNAME:W. Europe Standard Time
TZOFFSETFROM:+0200
TZOFFSETTO:+0100
END:STANDARD
BEGIN:DAYLIGHT
DTSTART:20250301T020000
RRULE:FREQ=YEARLY;BYDAY=-1SU;BYHOUR=2;BYMINUTE=0;BYMONTH=3
TZNAME:W. Europe Daylight Time
TZOFFSETFROM:+0100
TZOFFSETTO:+0200
END:DAYLIGHT
END:VTIMEZONE
BEGIN:VEVENT
CATEGORIES:Ausflug
CATEGORIES:Sonstiges
DESCRIPTION:Radltour nach Tauberfeld zum Griechen "Anemos"  Treffpunkt: 17:
 00 Uhr am Kirchplatz.\n\nVeranstalter: KDFB\n\nhttps://www.eitensheim.de/a
 ktuelles/veranstaltungen/radltour-nach-tauberfeld-zum-griechen-anemos/
DTEND:20260625T180000
DTSTAMP:20260420T133737Z
DTSTART:20260625T170000
LOCATION:Kirchplatz: Kirchplatz \, 85117 Eitensheim
SEQUENCE:0
SUMMARY:Radltour nach Tauberfeld zum Griechen "Anemos" 
UID:16312
URL:https://www.eitensheim.de/aktuelles/veranstaltungen/radltour-nach-taube
 rfeld-zum-griechen-anemos/
END:VEVENT
END:VCALENDAR
