BEGIN:VCALENDAR
VERSION:2.0
PRODID:-//ddaysoftware.com//NONSGML DDay.iCal 1.0//EN
BEGIN:VTIMEZONE
TZID:W. Europe Standard Time
BEGIN:STANDARD
DTSTART:20251002T030000
RRULE:FREQ=YEARLY;BYDAY=-1SU;BYHOUR=3;BYMINUTE=0;BYMONTH=10
TZNAME:W. Europe Standard Time
TZOFFSETFROM:+0200
TZOFFSETTO:+0100
END:STANDARD
BEGIN:DAYLIGHT
DTSTART:20250301T020000
RRULE:FREQ=YEARLY;BYDAY=-1SU;BYHOUR=2;BYMINUTE=0;BYMONTH=3
TZNAME:W. Europe Daylight Time
TZOFFSETFROM:+0100
TZOFFSETTO:+0200
END:DAYLIGHT
END:VTIMEZONE
BEGIN:VEVENT
CATEGORIES:Kirche
DESCRIPTION:\n\nVeranstalter: Feuerwehr\n\nhttps://www.eitensheim.de/aktuel
 les/veranstaltungen/kirche-fuer-die-verstorbenen-mitglieder/
DTEND:20261106T190000
DTSTAMP:20260421T121614Z
DTSTART:20261106T180000
LOCATION:Kirche St. Andreas: Kirchplatz 4\, 85117 Eitensheim
SEQUENCE:0
SUMMARY:Kirche für die verstorbenen Mitglieder
UID:16322
URL:https://www.eitensheim.de/aktuelles/veranstaltungen/kirche-fuer-die-ver
 storbenen-mitglieder/
END:VEVENT
END:VCALENDAR
