BEGIN:VCALENDAR
VERSION:2.0
PRODID:-//ddaysoftware.com//NONSGML DDay.iCal 1.0//EN
BEGIN:VTIMEZONE
TZID:W. Europe Standard Time
BEGIN:STANDARD
DTSTART:20251002T030000
RRULE:FREQ=YEARLY;BYDAY=-1SU;BYHOUR=3;BYMINUTE=0;BYMONTH=10
TZNAME:W. Europe Standard Time
TZOFFSETFROM:+0200
TZOFFSETTO:+0100
END:STANDARD
BEGIN:DAYLIGHT
DTSTART:20250301T020000
RRULE:FREQ=YEARLY;BYDAY=-1SU;BYHOUR=2;BYMINUTE=0;BYMONTH=3
TZNAME:W. Europe Daylight Time
TZOFFSETFROM:+0100
TZOFFSETTO:+0200
END:DAYLIGHT
END:VTIMEZONE
BEGIN:VEVENT
CATEGORIES:Versammlung
DESCRIPTION:Jahreshauptversammlung mit Neuwahlen & "Dinner in White"\n\nVer
 anstalter: KDFB\n\nhttps://www.eitensheim.de/aktuelles/veranstaltungen/jah
 reshauptversammlung-mit-neuwahlen-dinner-in-white/
DTEND:20260709T200000
DTSTAMP:20260420T134558Z
DTSTART:20260709T190000
LOCATION:Roßstall: Eichstätter Str. 8 a\, 85117 Eitensheim
SEQUENCE:0
SUMMARY:Jahreshauptversammlung mit Neuwahlen & "Dinner in White"
UID:16313
URL:https://www.eitensheim.de/aktuelles/veranstaltungen/jahreshauptversamml
 ung-mit-neuwahlen-dinner-in-white/
END:VEVENT
END:VCALENDAR
