BEGIN:VCALENDAR
VERSION:2.0
PRODID:-//ddaysoftware.com//NONSGML DDay.iCal 1.0//EN
BEGIN:VTIMEZONE
TZID:W. Europe Standard Time
BEGIN:STANDARD
DTSTART:20251002T030000
RRULE:FREQ=YEARLY;BYDAY=-1SU;BYHOUR=3;BYMINUTE=0;BYMONTH=10
TZNAME:W. Europe Standard Time
TZOFFSETFROM:+0200
TZOFFSETTO:+0100
END:STANDARD
BEGIN:DAYLIGHT
DTSTART:20250301T020000
RRULE:FREQ=YEARLY;BYDAY=-1SU;BYHOUR=2;BYMINUTE=0;BYMONTH=3
TZNAME:W. Europe Daylight Time
TZOFFSETFROM:+0100
TZOFFSETTO:+0200
END:DAYLIGHT
END:VTIMEZONE
BEGIN:VEVENT
CATEGORIES:Ausflug
DESCRIPTION:Halbtagesausflug zum Altmühltaler Kernstodl\n\nVeranstalter: KD
 FB\n\nhttps://www.eitensheim.de/aktuelles/veranstaltungen/halbtagesausflug
 -zum-altmuehltaler-kernstodl/
DTEND:20260919T150000
DTSTAMP:20260420T133845Z
DTSTART:20260919T140000
SEQUENCE:0
SUMMARY:Halbtagesausflug zum Altmühltaler Kernstodl
UID:16315
URL:https://www.eitensheim.de/aktuelles/veranstaltungen/halbtagesausflug-zu
 m-altmuehltaler-kernstodl/
END:VEVENT
END:VCALENDAR
