BEGIN:VCALENDAR
VERSION:2.0
PRODID:-//ddaysoftware.com//NONSGML DDay.iCal 1.0//EN
BEGIN:VTIMEZONE
TZID:W. Europe Standard Time
BEGIN:STANDARD
DTSTART:20251002T030000
RRULE:FREQ=YEARLY;BYDAY=-1SU;BYHOUR=3;BYMINUTE=0;BYMONTH=10
TZNAME:W. Europe Standard Time
TZOFFSETFROM:+0200
TZOFFSETTO:+0100
END:STANDARD
BEGIN:DAYLIGHT
DTSTART:20250301T020000
RRULE:FREQ=YEARLY;BYDAY=-1SU;BYHOUR=2;BYMINUTE=0;BYMONTH=3
TZNAME:W. Europe Daylight Time
TZOFFSETFROM:+0100
TZOFFSETTO:+0200
END:DAYLIGHT
END:VTIMEZONE
BEGIN:VEVENT
CATEGORIES:Sonstiges
DESCRIPTION:Ein paar Minuten Advent - Eitensheim öffnet seine Fenster\noder
  "Komm\, wir gehen Fensterl schauen!"\n\nVeranstalter: KAB Katholische Arb
 eitnehmerbewegung\n\nhttps://www.eitensheim.de/aktuelles/veranstaltungen/e
 in-paar-minuten-advent-eitensheim-oeffnet-seine-fenster/
DTEND:20251223T200000
DTSTAMP:20260421T050053Z
DTSTART:20251201T180000
SEQUENCE:0
SUMMARY:Ein paar Minuten Advent - Eitensheim öffnet seine Fenster
UID:15952
URL:https://www.eitensheim.de/aktuelles/veranstaltungen/ein-paar-minuten-ad
 vent-eitensheim-oeffnet-seine-fenster/
END:VEVENT
END:VCALENDAR
