BEGIN:VCALENDAR
VERSION:2.0
PRODID:-//ddaysoftware.com//NONSGML DDay.iCal 1.0//EN
BEGIN:VTIMEZONE
TZID:W. Europe Standard Time
BEGIN:STANDARD
DTSTART:20251002T030000
RRULE:FREQ=YEARLY;BYDAY=-1SU;BYHOUR=3;BYMINUTE=0;BYMONTH=10
TZNAME:W. Europe Standard Time
TZOFFSETFROM:+0200
TZOFFSETTO:+0100
END:STANDARD
BEGIN:DAYLIGHT
DTSTART:20250301T020000
RRULE:FREQ=YEARLY;BYDAY=-1SU;BYHOUR=2;BYMINUTE=0;BYMONTH=3
TZNAME:W. Europe Daylight Time
TZOFFSETFROM:+0100
TZOFFSETTO:+0200
END:DAYLIGHT
END:VTIMEZONE
BEGIN:VEVENT
CATEGORIES:Sonstiges
DESCRIPTION:5-tägiges Fußballcamp für 7- bis 16-jährige Mädchen und Jungen\
 n\nVeranstalter: Sportverein Eitensheim\n\nhttps://www.eitensheim.de/aktue
 lles/veranstaltungen/das-koenigliche-fussballcamp/
DTEND:20260605T000000
DTSTAMP:20260419T212933Z
DTSTART;VALUE=DATE:20260601
SEQUENCE:0
SUMMARY:Das Königliche Fussballcamp
UID:16200
URL:https://www.eitensheim.de/aktuelles/veranstaltungen/das-koenigliche-fus
 sballcamp/
END:VEVENT
END:VCALENDAR
