BEGIN:VCALENDAR
VERSION:2.0
PRODID:-//ddaysoftware.com//NONSGML DDay.iCal 1.0//EN
BEGIN:VTIMEZONE
TZID:W. Europe Standard Time
BEGIN:STANDARD
DTSTART:20251002T030000
RRULE:FREQ=YEARLY;BYDAY=-1SU;BYHOUR=3;BYMINUTE=0;BYMONTH=10
TZNAME:W. Europe Standard Time
TZOFFSETFROM:+0200
TZOFFSETTO:+0100
END:STANDARD
BEGIN:DAYLIGHT
DTSTART:20250301T020000
RRULE:FREQ=YEARLY;BYDAY=-1SU;BYHOUR=2;BYMINUTE=0;BYMONTH=3
TZNAME:W. Europe Daylight Time
TZOFFSETFROM:+0100
TZOFFSETTO:+0200
END:DAYLIGHT
END:VTIMEZONE
BEGIN:VEVENT
CATEGORIES:Ausflug
DESCRIPTION:Treffpunkt: 19 Uhr Alter Sportplatz an der Auenstraße in Eitens
 heim (Delacher)\; Dauer: 2 Stunden\n\nVeranstalter: Bund Naturschutz OG Ei
 tensheim-Gaimersheim-Wettstetten\n\nhttps://www.eitensheim.de/aktuelles/ve
 ranstaltungen/bund-naturschutz-wanderung-juli/
DTEND:20240705T200000
DTSTAMP:20260420T181624Z
DTSTART:20240705T190000
SEQUENCE:0
SUMMARY:Feierabend-Exkursion - Eitensheimer Flur
UID:13951
URL:https://www.eitensheim.de/aktuelles/veranstaltungen/bund-naturschutz-wa
 nderung-juli/
END:VEVENT
END:VCALENDAR
