BEGIN:VCALENDAR
VERSION:2.0
PRODID:-//ddaysoftware.com//NONSGML DDay.iCal 1.0//EN
BEGIN:VTIMEZONE
TZID:W. Europe Standard Time
BEGIN:STANDARD
DTSTART:20251002T030000
RRULE:FREQ=YEARLY;BYDAY=-1SU;BYHOUR=3;BYMINUTE=0;BYMONTH=10
TZNAME:W. Europe Standard Time
TZOFFSETFROM:+0200
TZOFFSETTO:+0100
END:STANDARD
BEGIN:DAYLIGHT
DTSTART:20250301T020000
RRULE:FREQ=YEARLY;BYDAY=-1SU;BYHOUR=2;BYMINUTE=0;BYMONTH=3
TZNAME:W. Europe Daylight Time
TZOFFSETFROM:+0100
TZOFFSETTO:+0200
END:DAYLIGHT
END:VTIMEZONE
BEGIN:VEVENT
CATEGORIES:Versammlung
DESCRIPTION:Die gesamte Bevölkerung ist herzlich eingeladen.\n\nVeranstalte
 r: Gemeinde\n\nhttps://www.eitensheim.de/aktuelles/veranstaltungen/buerger
 versammlung-2024/
DTEND:20241107T203000
DTSTAMP:20260419T140602Z
DTSTART:20241107T193000
LOCATION:Sportheim: Pestalozzistraße 3\, 85117 Eitensheim
SEQUENCE:0
SUMMARY:Bürgerversammlung 2024
UID:13899
URL:https://www.eitensheim.de/aktuelles/veranstaltungen/buergerversammlung-
 2024/
END:VEVENT
END:VCALENDAR
