BEGIN:VCALENDAR
VERSION:2.0
PRODID:-//ddaysoftware.com//NONSGML DDay.iCal 1.0//EN
BEGIN:VTIMEZONE
TZID:W. Europe Standard Time
BEGIN:STANDARD
DTSTART:20251002T030000
RRULE:FREQ=YEARLY;BYDAY=-1SU;BYHOUR=3;BYMINUTE=0;BYMONTH=10
TZNAME:W. Europe Standard Time
TZOFFSETFROM:+0200
TZOFFSETTO:+0100
END:STANDARD
BEGIN:DAYLIGHT
DTSTART:20250301T020000
RRULE:FREQ=YEARLY;BYDAY=-1SU;BYHOUR=2;BYMINUTE=0;BYMONTH=3
TZNAME:W. Europe Daylight Time
TZOFFSETFROM:+0100
TZOFFSETTO:+0200
END:DAYLIGHT
END:VTIMEZONE
BEGIN:VEVENT
CATEGORIES:Ausstellung
CATEGORIES:Kirche
DESCRIPTION:Veranstaltungsbeginn zu den Öffnungszeiten der Pfarrkirche.\n\n
 Veranstalter: Heimatverein\, Pfarrei\n\nhttps://www.eitensheim.de/aktuelle
 s/veranstaltungen/bilderausstellung-65-weihetag-der-pfarrkirche-st-andreas
 -eitensheim/
DTEND:20260605T000000
DTSTAMP:20260419T184618Z
DTSTART;VALUE=DATE:20260510
LOCATION:Kirche St. Andreas: Kirchplatz 4\, 85117 Eitensheim
SEQUENCE:0
SUMMARY: Bilderausstellung „65. Weihetag der Pfarrkirche St. Andreas Eitens
 heim“
UID:16197
URL:https://www.eitensheim.de/aktuelles/veranstaltungen/bilderausstellung-6
 5-weihetag-der-pfarrkirche-st-andreas-eitensheim/
END:VEVENT
END:VCALENDAR
