BEGIN:VCALENDAR
VERSION:2.0
PRODID:-//ddaysoftware.com//NONSGML DDay.iCal 1.0//EN
BEGIN:VTIMEZONE
TZID:W. Europe Standard Time
BEGIN:STANDARD
DTSTART:20251002T030000
RRULE:FREQ=YEARLY;BYDAY=-1SU;BYHOUR=3;BYMINUTE=0;BYMONTH=10
TZNAME:W. Europe Standard Time
TZOFFSETFROM:+0200
TZOFFSETTO:+0100
END:STANDARD
BEGIN:DAYLIGHT
DTSTART:20250301T020000
RRULE:FREQ=YEARLY;BYDAY=-1SU;BYHOUR=2;BYMINUTE=0;BYMONTH=3
TZNAME:W. Europe Daylight Time
TZOFFSETFROM:+0100
TZOFFSETTO:+0200
END:DAYLIGHT
END:VTIMEZONE
BEGIN:VEVENT
CATEGORIES:Versammlung
CATEGORIES:Feste / Feiern
DESCRIPTION:80-jähriges SVE Jubiläum - Teilnahme am Umzug\n\nVeranstalter: 
 KDFB\n\nhttps://www.eitensheim.de/aktuelles/veranstaltungen/80-jaehriges-s
 ve-jubilaeum-teilnahme-am-umzug/
DTEND:20260614T143000
DTSTAMP:20260420T113010Z
DTSTART:20260614T133000
SEQUENCE:0
SUMMARY:80-jähriges SVE Jubiläum - Teilnahme am Umzug
UID:16311
URL:https://www.eitensheim.de/aktuelles/veranstaltungen/80-jaehriges-sve-ju
 bilaeum-teilnahme-am-umzug/
END:VEVENT
END:VCALENDAR
