BEGIN:VCALENDAR
VERSION:2.0
PRODID:-//ddaysoftware.com//NONSGML DDay.iCal 1.0//EN
BEGIN:VTIMEZONE
TZID:W. Europe Standard Time
BEGIN:STANDARD
DTSTART:20251002T030000
RRULE:FREQ=YEARLY;BYDAY=-1SU;BYHOUR=3;BYMINUTE=0;BYMONTH=10
TZNAME:W. Europe Standard Time
TZOFFSETFROM:+0200
TZOFFSETTO:+0100
END:STANDARD
BEGIN:DAYLIGHT
DTSTART:20250301T020000
RRULE:FREQ=YEARLY;BYDAY=-1SU;BYHOUR=2;BYMINUTE=0;BYMONTH=3
TZNAME:W. Europe Daylight Time
TZOFFSETFROM:+0100
TZOFFSETTO:+0200
END:DAYLIGHT
END:VTIMEZONE
BEGIN:VEVENT
CATEGORIES:Ausflug
DESCRIPTION:Mittwoch den 29.04.2026 um 10:00 Abfahrt am Kirchplatz\n\nVeran
 stalter: Krankenpflegeverein\n\nhttps://www.eitensheim.de/aktuelles/verans
 taltungen/1-ausflug-des-krankenpflegeverein-der-pfarrei-eitensheim-nach-kl
 oster-scheyern/
DTEND:20260429T110050
DTSTAMP:20260419T185028Z
DTSTART:20260429T100050
LOCATION:Kirchplatz: Kirchplatz \, 85117 Eitensheim
SEQUENCE:0
SUMMARY:1. Ausflug des Krankenpflegeverein der Pfarrei Eitensheim nach  Klo
 ster-Scheyern
UID:16195
URL:https://www.eitensheim.de/aktuelles/veranstaltungen/1-ausflug-des-krank
 enpflegeverein-der-pfarrei-eitensheim-nach-kloster-scheyern/
END:VEVENT
END:VCALENDAR
